BEGIN:VCALENDAR
VERSION:2.0
PRODID:-//Costahotels - ECPv4.6.2//NONSGML v1.0//EN
CALSCALE:GREGORIAN
METHOD:PUBLISH
X-WR-CALNAME:Costahotels
X-ORIGINAL-URL:https://www.costahotels.it
X-WR-CALDESC:Events for Costahotels
BEGIN:VEVENT
DTSTART;TZID=Europe/Rome:20230615T093000
DTEND;TZID=Europe/Rome:20230617T180000
DTSTAMP:20260424T083441
CREATED:20230524T122107Z
LAST-MODIFIED:20230720T133026Z
UID:11628-1686821400-1687024800@www.costahotels.it
SUMMARY:We Make Future Rimini
DESCRIPTION:Dal 15 al 17 Giugno\, Rimini Fiera ospiterà la più grande manifestazione sull’innovazione del Pianeta\, We Make Future Rimini! \nWe Make Future Rimini – Tutto sulla nuova edizione\nWe Make Future Rimini\, conosciuta anche con l’acronimo WMF\, è una Fiera internazionale e Festival dell’innovazione tecnologica e digitale. Una piattaforma globale per la costruzione del futuro che in tre giornate prevede tra i padiglioni di Rimini Fiera oltre 100 eventi tra incontri B2B\, formazione\, area fieristica\, concerti\, show\, cultura e networking. \nGli eventi di WMF Rimini\n\nIl grande evento ingloberà il Web Marketing Festival Rimini\, che siamo solitamente abituati a vedere presso il Palacongressi di Rimini. Per l’edizione cambia dimora e si sposta alla Fiera di Rimini.\nL’AI Global Summit\, l’evento internazionale di riferimento in tema intelligenza artificiale\, con Special Guest Sophia\, il robot umanoide\nIl Tech & Digital Fair\, il meglio del mondo digital\, MarTech\, Startup ed E-Commerce\nIl World Startup Fest\, evento di riferimento per le startup\, investitori e scaleup\nIl Digital Job fair\, dedicata ai professionisti e aziende del settore Digital-Tech\nIl Creators Fest\, la più grande iniziativa nazionale dedicata ai più famosi Creators e alle loro community\nL’E-Commerce Fest\, interament dedicato al mondo dell’e-commerce\nIl We Make Future giovani – o WMF Youth\, eventi e iniziative dedicate ai ragazzi\nL’Innovation Film Fest\, una kermesse dedicata al mondo cinematografico\nIl Music Fest\, con eventi musicali ed ospiti come Dargen D’Amico\, N.A.I.P.\, Dardust\, Boomdabash\, Samuel Romano\, solo per citarne alcuni\nL’Open Innovation Fest\, dedicato a investitori e VC tech-driven\nIl Future Show\, evento dedicato alla robotica e tecnologie innovative da ogni parte del mondo\nIl Book Fair\, eventi dedicati a case editrici\, librerie ed autori\n\nOspitalità hotel Rimini Giugno\nNon perderti la possibilità di partecipare al più grande festival sull’innovazione digitale e sociale! Acquista il biglietto Full per accedere alla Fiera di Rimini durante l’evento e prenota il tuo hotel Rimini o Riccione in base alle tue esigenze! \n  \nFonte Foto: sito ufficiale We Make Future – wemakefuture.it \n
URL:https://www.costahotels.it/evento/we-make-future-rimini/
CATEGORIES:Eventi,Fiere
ATTACH;FMTTYPE=image/jpeg:https://www.costahotels.it/wp-content/uploads/2023/05/we-make-future-rimini-768x400.jpg
END:VEVENT
END:VCALENDAR