BEGIN:VCALENDAR
VERSION:2.0
PRODID:-//Costahotels - ECPv4.6.2//NONSGML v1.0//EN
CALSCALE:GREGORIAN
METHOD:PUBLISH
X-WR-CALNAME:Costahotels
X-ORIGINAL-URL:https://www.costahotels.it
X-WR-CALDESC:Events for Costahotels
BEGIN:VEVENT
DTSTART;TZID=Europe/Rome:20230706T080000
DTEND;TZID=Europe/Rome:20230716T190000
DTSTAMP:20260425T212826
CREATED:20201119T091644Z
LAST-MODIFIED:20230524T124658Z
UID:10235-1688630400-1689534000@www.costahotels.it
SUMMARY:Sport Dance Rimini
DESCRIPTION:Sport Dance Rimini\, l’evento che raduna tantissimi sportivi\, appassionati e curiosi del mondo della danza\, torna nel quartiere fieristico di Rimini dal 6 al 16 Luglio 2023. \nLa manifestazione è ideata e organizzata dalla Federazione Italia di Danza Sportiva\, in collaborazione con Rimini Fiera e il Comune di Rimini. \nDurante le due settimane in cui si svolgerà l’evento si alterneranno esibizioni e gare di danza accademiche\, danze Filuzziane e danze Folk a spettacoli molto emozionanti del calibro di disco acrobatica e choreographic dance. Non mancheranno i ballerini di hip-hop e break dance con uno show molto bello e divertente. \nAll’interno del quartiere fieristico ampio spazio verrà dato a tutti i tecnici e commercianti del settore che avranno l’opportunità di esporre i propri articoli e farsi conoscere dagli atleti e dalle società presenti. \nSport Dance Rimini si svolgerà nel rispetto delle normative vigenti\, mettendo al primo posto la salute di tutti i partecipanti. \nOfferte hotel\nTrascorri giornate indimenticabili tra il mare della Riviera Romagnola e lo sport. Per soggiornare consulta le offerte proposte dagli Hotel Rimini e Hotel Riccione e scegli quella ideale per le tue esigenze. \nNon fartela scappare\, prenota subito! \n
URL:https://www.costahotels.it/evento/sport-dance-rimini/
CATEGORIES:Eventi,Fiere,Sport
ATTACH;FMTTYPE=image/jpeg:https://www.costahotels.it/wp-content/uploads/2020/11/sport-dance-rimini-768x400.jpg
END:VEVENT
END:VCALENDAR