BEGIN:VCALENDAR
VERSION:2.0
PRODID:-//Costahotels - ECPv4.6.2//NONSGML v1.0//EN
CALSCALE:GREGORIAN
METHOD:PUBLISH
X-WR-CALNAME:Costahotels
X-ORIGINAL-URL:https://www.costahotels.it
X-WR-CALDESC:Events for Costahotels
BEGIN:VEVENT
DTSTART;TZID=Europe/Rome:20160910T080000
DTEND;TZID=Europe/Rome:20160910T235500
DTSTAMP:20260422T002433
CREATED:20160718T115603Z
LAST-MODIFIED:20160905T085425Z
UID:5892-1473494400-1473551700@www.costahotels.it
SUMMARY:3° Riccione Body Art Festival
DESCRIPTION:Il 10 settembre 2016 a partire dalle 10:00 e fino alle 23:30\, viale Dante di Riccione ospiterà il terzo Riccione Body Art Festival. Tema del concorso sarà “Moto e Moti” dato che la kermesse si tiene in concomitanza con il grande evento sportivo del circuito di Misano\, il MotoGP 2016. Sarà una giornata artistica dedicata ai moti interiori visti come emozioni e moti dell’animo.\nL’interpretazione del tema sarà libera e permetterà di spaziare dal tema moto a quello dei movimenti nel campo della fisica\, della chimica e della scienza.\nCome sempre il Riccione Body Art Festival vedrà in scena i più bravi artisti nel campo della body art\, che potranno sbizzarrirsi con aerografi\, spugne e pennelli\, dipingendo a colori sul corpo. Sono ammessi effetti speciali\, applicazioni e accessori. Il focus sarà comunque riservato all’esecuzione pittorica. A partire dalle10:00 sarà possibile iscriversi al concorso firmando la liberatoria per modelle e artisti. Nel corso di 6 ore i pittori realizzeranno i loro lavori di body painting fino alle ore 18:00. A fine realizzazione le modelle sfileranno davanti alla giuria per mostrare l’opera che sarà soggetta a valutazione e punteggio. Spazio quindi al set fotografico con fotografi accreditati e buffet conclusivo offerto dall’organizzazione.\nIn abbinamento al Festival ci sarà anche un concorso fotografico.\nPrenota la tua offerta in hotel a Riccione a settembre in concomitanza del Body Art Festival e del Moto GP di Misano. Non perderti le vantaggiose offerte che gli hotel di Riccione preparano per tutto il mese di settembre\, con sconti e promozioni di fine estate. Trova il tuo hotel a Riccione vicino a viale Dante e al mare. \nInfo Riccione Body Art Festival 2016:\nOrganizzazione a cura del Comitato viale Dante – RICCIONE\nPresidente comitato: Pasquale Lonero\nDirezione Artistica: Marilena Censi\ne­mail: marilenastella@gmail.com \n
URL:https://www.costahotels.it/evento/3-riccione-body-art-festival/
CATEGORIES:Eventi
ATTACH;FMTTYPE=image/jpeg:https://www.costahotels.it/wp-content/uploads/2016/07/riccione-body-art-festival.jpg
END:VEVENT
END:VCALENDAR