BEGIN:VCALENDAR
VERSION:2.0
PRODID:-//Costahotels - ECPv4.6.2//NONSGML v1.0//EN
CALSCALE:GREGORIAN
METHOD:PUBLISH
X-WR-CALNAME:Costahotels
X-ORIGINAL-URL:https://www.costahotels.it
X-WR-CALDESC:Events for Costahotels
BEGIN:VEVENT
DTSTART;VALUE=DATE:20231208
DTEND;VALUE=DATE:20231210
DTSTAMP:20260421T122452
CREATED:20180903T110944Z
LAST-MODIFIED:20231229T134319Z
UID:7453-1701993600-1702166399@www.costahotels.it
SUMMARY:Concerto Laura Pausini a Rimini
DESCRIPTION:Tra i concerti RDS Stadium Rimini\, arriva la prima tappa del tour Mondiale di Laura Pausini. Con una doppia tappa\, dopo un primo immediato sold out\, il concerto Laura Pausini a Rimini si terrà all’RDS Stadium l’8 e 9 Dicembre 2023! \nLa cantante di Solarolo fa capolino nel mondo della musica nel 1993\, partecipando al Festival di San Remo\, vincendo nella categoria Novità con il brano La Solitudine\, diventato ora un grande classico della musica italiana.\nDalla vittoria a San Remo\, la Pausini colleziona una serie di grandi traguardi musicali e piano piano supera i confini italiani\, divenendo famosissima anche in Spagna\, America Latina e Stati Uniti\, vendendo oltre 70milioni di dischi in tutto il mondo.\nLaura Pausini durante la sua carriera ha avuto i più prestigiosi premi dello show business\, tra cui 1 Grammy Award\, 1 Golden Globe\, 5 Latin Grammi Awards\, 4 Premios Lo Nuestro\, 6 World Music Awards\, solo per citare alcuni.\nOggi è la cantante italiana più ascoltata in tutto il mondo su Spotify. \nConcerto Laura Pausini a Rimini\nNel 30esimo anno di carriera di Laura ausini\, è inoltre uscito il nuovo album Anime Parallele\, riproposto poi anche in versione spagnola\, e torna con un tour mondiale con prima tappa di ben due date proprio nella nostra Rimini\, ennesima dimostrazione di profondo affetto della cantante verso la sua Romagna. \nOspitalità in hotel Rimini\nSe non fossi del posto e non vuoi affrontare il viaggio di ritorno subito dopo il concerto\, puoi alloggiare in un hotel Rimini vicini all’RDS Stadium.\nScopri le offerte ponte Immacolata hotel Rimini e Riccione e scegli il meglio per te! \n
URL:https://www.costahotels.it/evento/concerto-laura-pausini-a-rimini/
CATEGORIES:Eventi
ATTACH;FMTTYPE=image/jpeg:https://www.costahotels.it/wp-content/uploads/2018/09/concerto-laura-pausini-a-rimini-768x400.jpg
END:VEVENT
END:VCALENDAR