BEGIN:VCALENDAR
VERSION:2.0
PRODID:-//Costahotels - ECPv4.6.2//NONSGML v1.0//EN
CALSCALE:GREGORIAN
METHOD:PUBLISH
X-WR-CALNAME:Costahotels
X-ORIGINAL-URL:https://www.costahotels.it
X-WR-CALDESC:Events for Costahotels
BEGIN:VEVENT
DTSTART;TZID=Europe/Rome:20191006T080000
DTEND;TZID=Europe/Rome:20191007T170000
DTSTAMP:20260419T145605
CREATED:20190528T105953Z
LAST-MODIFIED:20191007T075922Z
UID:8127-1570348800-1570467600@www.costahotels.it
SUMMARY:Concerto Vinicio Capossela Rimini
DESCRIPTION:Il 6 ottobre sarà in Concerto Vinicio Capossela al Teatro Galli di Rimini.\nIl cantautore polistrumentalista guarda la società moderna travolta dalla tecnologia che invade le nostre vite. \nNel nuovo disco “Ballate per uomini e bestie” è presentato dall’autore come “Un cantico per tutte le creature\, per la molteplicità”.\nUn’opera di grande forza espressiva che porta alla luce le violenze sulla natura. In un momento in cui l’occidente affronta un periodo di sfiducia nella cultura… L’artista evoca un medioevo fantastico con creature magiche\, cavalieri e fate.\nNel nuovo album “Ballate per uomini e bestie” ci sono le canzoni: \n\nUro\n Il povero Cristo \n La peste\n Danza macabra\n Il testamento del porco\n Ballata del carcere di Reading\n Nuove tentazioni di Sant’Antonio\n La belle dame sans merci\n Perfetta Letizia\n I musicanti di Brema\n Le loup garou\n La giraffa di Imola\n Di città in città (… e porta l’orso)\n La lumaca\n\nNei 14 brani ci sono varie canzoni tra cui “Il povero Cristo” poiché l’avidità e l’arroganza dell’uomo convincono Gesù a tornare sulla croce. Capossela porterà le nuove canzoni in tour in autunno e in alcuni tour speciali. \nTra i 14 brani dell’album ci sono canzoni vicine alla grande letteratura\, da Oscar Wilde a John Keats.\nNell’album la collaborazione con i musicisti come Alessandro Stefana\, Massimo Zamboni\, Raffaele Tiseo\, Stefano Nanni\,\nMarc Ribot\, Teho Teardo\, Daniele Sepe\, Georgos Xylouris e Jim White e L’Orchestra nazionale della Radio Bulgara. \nOspitalità per il concerto Vinicio Capossela\nPrenota negli Hotel Rimini Costa Hotels propongono le loro offerte migliori per proporre soggiorni favolosi e prender parte al concerto di Vinicio Capossela. Il Teatro Amintore Galli si trova in piazza Cavour 22 Rimini centro storico. \nI biglietti concerto Vinicio Capossela saranno disponibili su ticketone e nelle rivendite autorizzate. \n  \n
URL:https://www.costahotels.it/evento/concerto-vinicio-capossela/
CATEGORIES:Eventi
ATTACH;FMTTYPE=image/jpeg:https://www.costahotels.it/wp-content/uploads/2019/05/Vinicio-Capossela768x432.jpg
END:VEVENT
END:VCALENDAR