BEGIN:VCALENDAR
VERSION:2.0
PRODID:-//Costahotels - ECPv4.6.2//NONSGML v1.0//EN
CALSCALE:GREGORIAN
METHOD:PUBLISH
X-WR-CALNAME:Costahotels
X-ORIGINAL-URL:https://www.costahotels.it
X-WR-CALDESC:Events for Costahotels
BEGIN:VEVENT
DTSTART;TZID=Europe/Rome:20251120T080000
DTEND;TZID=Europe/Rome:20251122T170000
DTSTAMP:20260421T122211
CREATED:20171103T121853Z
LAST-MODIFIED:20251210T104142Z
UID:7154-1763625600-1763830800@www.costahotels.it
SUMMARY:Congresso SICP Riccione
DESCRIPTION:Dal 20 al 22 Novembre 2025 il Palazzo dei Congressi Riccione ospiterà il XXXII Congresso Nazionale SICP (Società Italiana Cure Palliative). \nSi tratta di un evento che promuove una sezione dedicata all’esposizione di “Case Report”\, che trattano il tema della gestione del dolore oncologico\, attraverso l’assunzione di farmaci a base di Fentanil. \nCome funziona il Congresso SICP Riccione?\nL’edizione XXXII del Congresso Nazionale SICP Riccione è dedicata al tema “Evoluzione delle reti per il rinnovamento del sistema sanitario nazionale”. \nOgni Case Report\, o caso clinico\, dovrà mettere in luce la storia del paziente ed il percorso terapeutico scelto. Si dovranno mettere in evidenza le difficoltà e l’importanza della scelta del medicinale e come questo abbia influito sul risultato del trattamento.\nSarà inoltre importante tenere conto di come la rapida presa in carico del dolore migliori la qualità di vita del paziente. \nA seguito della valutazione di ogni Case Report presentati durante il Congresso SICP Riccione\, gli autori della manifestazione presenteranno i migliori tre. \nOfferte Hotel Congresso SICP Riccione\nVi sono diversi hotel Riccione a due passi dal Palacongressi\, aperti a Novembre e prontissimi ad ospitarti! \nAlcuni di questi hanno già pubblicato online delle vere e proprie offerte hotel Congresso SICP Riccione\, con tanti servizi e vantaggi inclusi! \nScegli tutto il meglio di un soggiorno nella Perla Verde dell’Adriatico\, in occasione degli eventi Novembre Palacongressi Riccione. \n
URL:https://www.costahotels.it/evento/congresso-sicp-riccione/
CATEGORIES:Eventi
ATTACH;FMTTYPE=image/jpeg:https://www.costahotels.it/wp-content/uploads/2017/11/congresso-nazionale-sicp-riccione-768x400.jpg
END:VEVENT
END:VCALENDAR