BEGIN:VCALENDAR
VERSION:2.0
PRODID:-//Costahotels - ECPv4.6.2//NONSGML v1.0//EN
CALSCALE:GREGORIAN
METHOD:PUBLISH
X-WR-CALNAME:Costahotels
X-ORIGINAL-URL:https://www.costahotels.it
X-WR-CALDESC:Events for Costahotels
BEGIN:VEVENT
DTSTART;TZID=Europe/Rome:20211030T080000
DTEND;TZID=Europe/Rome:20211101T190000
DTSTAMP:20260426T025204
CREATED:20191022T144754Z
LAST-MODIFIED:20211102T160030Z
UID:9262-1635580800-1635793200@www.costahotels.it
SUMMARY:Halloween Gradara
DESCRIPTION:Dal 30 Ottobre al 1° Novembre 2021\, non perderti la festa di Halloween Gradara! \nL’affascinante borgo di Gradara assumerà inquietanti sembranze con itinerari animati per adulti e bambini\, spettacolari pranzi e cene in stile Harry Potter\, uno spaventoso mercatino con oggettistica artigianale ed originali idee regalo… \nL’evento sarà intitolato Halloweekend e prevede un ricchissimo programma dedicato a tutta la famiglia! \nProgramma Halloween Gradara: tutti gli eventi di un Halloweekend da urlo\nTutte le attività del programma sono disponibili su prenotazione\, a pagamento. \nDurante le tre giornate di Halloween Gradara\, vengono proposte le seguenti attività \n\nMino il Fantasmino e il suo Raccontino da Brividino (per bambini fino a 9 anni)\, lo show di Marcello Franca. Lo spettacolo per bambini avrà luogo alle 10:30 e si ripeterà alle 11:30;\nPaolo\, Francesca e Brividi dal Passato (adatto a tutte le età). Un percorso attraverso l’antico borgo di Gradara\, teatro di tragedie\, battaglie e amori perduti\, per rievocare le oscure vicende del passato. Il percorso si ripeterà più volte durante la giornata\, ai seguenti orari: la mattina alle 10:00\, alle 11:00 e alle 12:00 e nel pomeriggio alle 14:30\, alle 16:00 e alle 17:30;\nIl Borgo Stregato (adatto a tutta la  famiglia). Spettacolo teatrale itinerante nel borgo\, che coinvolge e intrattiene tutte le famiglie. Incontreremo strani personaggi onirici usciti da libri e racconti fantastici… Un pomeriggio da paura! Lo spettacolo si ripeterà ogni 45 minuti dalle ore 15:00 alle ore 18:00;\nIl Mercatino Spaventoso\, aperto dalle ore 10:00 alle ore 20:00. Un mercatino tutto da scoprire con curiosi oggetti d’artigianato a tema Halloween e tante originali idee regalo;\n\nIl 31 Ottobre\, giorno di Halloween\, si arriva al culmine dei festeggiamenti\, con il magico Lunch & Dinner in stile Harry Potter! Sempre su prenotazione a pagamento\, potrai partecipare al pranzo o alla cena animata in compagnia degli iconici professori della scuola di Hogwarts!\nIl pranzo a tema Harry Potter avrà inizio alle 12:30\, mentre la cena alle ore 20:30! \nPer poter partecipare alle iniziative di Halloweekend\, è obbligatorio il Green Pass\, che verrà richiesto a tutti i partecipanti dal personale addetto ai controlli. \nPrenota un Hotel Riccione o un Hotel Misano\, scegli tra le offerte la migliore e non perderti le speciali iniziative di Halloween Gradara e il Lunch & Dinner in stile Harry Potter! \n  \n
URL:https://www.costahotels.it/evento/halloween-gradara/
LOCATION:Gradara\, Italia
CATEGORIES:Eventi,Festività
ATTACH;FMTTYPE=image/jpeg:https://www.costahotels.it/wp-content/uploads/2019/10/halloween-gradara-768x400.jpg
END:VEVENT
END:VCALENDAR