BEGIN:VCALENDAR
VERSION:2.0
PRODID:-//Costahotels - ECPv4.6.2//NONSGML v1.0//EN
CALSCALE:GREGORIAN
METHOD:PUBLISH
X-WR-CALNAME:Costahotels
X-ORIGINAL-URL:https://www.costahotels.it
X-WR-CALDESC:Events for Costahotels
BEGIN:VEVENT
DTSTART;TZID=Europe/Rome:20250619T080000
DTEND;TZID=Europe/Rome:20250621T170000
DTSTAMP:20260421T022914
CREATED:20240531T145259Z
LAST-MODIFIED:20250630T123633Z
UID:12193-1750320000-1750525200@www.costahotels.it
SUMMARY:Kids Family Festival
DESCRIPTION:In contemporanea con l’arrivo dell’estate e con l’edizione 2025 della Notte Rosa\, arriva la seconda edizione di Kids Family Festival\, una kermesse interamente dedicata alle famiglie\, con palcoscenico in Piazzale Ceccarini. \nKids Family Festival a Riccione dal 19 al 21 Giugno\nDal 19 al 21 Giugno\, il programma di Kids Family Festival Riccione prevede tantissime attività divertenti tra Meet & Greet\, laboratori creativi\, spettacoli\, talk e attività per tutte le età. \nDurante il weekend del solstizio d’estate\, i più piccoli potranno incontrare i loro personaggi preferiti\,le Winx\, i 44 Gatti e bellissime sirene. \nGli appuntamenti più importanti di Kids Family Festival Riccione\n19 giugno 2025 dalle 20:00 alle 24:00 \nE’ prevista l’accensione delle installazioni immersive del Winx Club.\nAlle ore 20:00 talk “E voleremo sopra la paura” di Valentina Mastroianni.\nAlle 21:00 arriva lo shot intitolato “Presente” di Paolo Ruffini.\nLa serata si chiude alla grande con il Fluo Family Party dalle 22:00 \n20 giugno 2025 dalle 20:00 alle 24:00 \nAlle 20:15\, talk sul Cyber bullismo e psicologia familiare accessibile condotto da Fondazione Carolina\, InTherapy e lo psicologo Giorgio Giuliani.\nAlle ore 21:00 arriva la parata dei personaggi in costume e alle 21:30\, il musical del Winx Club.\nDalle 21:30\, Winx Glitter Party con musica\, luci e dj set. \n21 giugno 2025\, super giornata dalle ore 18:00 \nSi parte con il talk educativo “Allenare alla vita” dello psicoterapeuta Alberto Pellai\, seguito da un approfondimento sulla tutela del mare\, condotto da MareVivo.\nAlle 19:50 anteprima dello show Marmaid Magic e a seguire\, dalle 20:00\, si potrà partecipare ai lavoratori creativi.\nAlle 20:15 Show teatrale dei 44 Gatti\nAlle 21:00 Spettacolo di Salvo & Giorgia\nAlle 22:15 Musical “Seconda Stella a Destra”\nAlle 23:00 chiusura dell’evento cpn il Family Deejay Dance e meet&greet finali. \n  \nPartecipa alla seconda edizione di Kids Family Festival! Tantissimi hotel Riccione ti aspettano con formidabili offerte formato famiglia con grandi sconti per i piccoli ospiti! \n
URL:https://www.costahotels.it/evento/kids-family-festival/
CATEGORIES:Eventi
ATTACH;FMTTYPE=image/jpeg:https://www.costahotels.it/wp-content/uploads/2024/05/kids_family_768x400.jpg
END:VEVENT
END:VCALENDAR