BEGIN:VCALENDAR
VERSION:2.0
PRODID:-//Costahotels - ECPv4.6.2//NONSGML v1.0//EN
CALSCALE:GREGORIAN
METHOD:PUBLISH
X-WR-CALNAME:Costahotels
X-ORIGINAL-URL:https://www.costahotels.it
X-WR-CALDESC:Events for Costahotels
BEGIN:VEVENT
DTSTART;TZID=Europe/Rome:20240619T080000
DTEND;TZID=Europe/Rome:20240623T230000
DTSTAMP:20260421T141836
CREATED:20190515T090250Z
LAST-MODIFIED:20240625T132542Z
UID:7978-1718784000-1719183600@www.costahotels.it
SUMMARY:La Notte delle Streghe
DESCRIPTION:Arriva la Notte delle Streghe dal 19 al 23 Giugno 2024 a San Giovanni in Marignano dalle 10 a dopo la mezzanotte. Sarà un susseguirsi di spettacoli e animazioni di maghi\, giocolieri\, mimi\, mangiafuoco\, musicisti. \nLa Notte delle Streghe\nDa oltre 30 anni dal lontano 1988 la Notte delle Streghe San Giovanni in Marignano è la festa magica della riviera romagnola\, legata a riti e a tradizioni antiche. \nNel borgo appare il mercatino dove si possono trovare prodotto artigianali\, erbe magiche\, oggetti preziosi\, abiti e tanto altro ancora.\nSono numerose inoltre le proposte gastronomiche dei ristoranti vicini.\nLa Notte di San Giovanni “in cui tutto può accadere e a tutto si può rimediare“\, come recita il detto\, sono le ore in cui le streghe fanno i loro sortilegi.. Ma è anche durante questa festa che a mezzanotte\, dell’ultima sera\, come vuole la tradizione viene fatto il ‘Rogo della strega’.\nTra le numerose usanze c’è la preparazione del nocino\, il liquore delle streghe. Poi c’è la raccolta delle erbe di San Giovanni\, legate al detto “la rugiada di San Giovanni guarisce tutti i mali“. E con le spighe raccolte il 23 di Giugno si può fare l’acqua di San Giovanni dai forti poteri magici. \nIl borgo di San giovanni in Marignano si trova a 4.5 km da Cattolica\, a 25 km a sud di Rimini e a 24 km da Pesaro. L’ingresso alla festa è libero. \nOspitalità\nPronte varie offerte preparate dagli Hotel Misano Adriatico per la Notte delle Streghe San Giovanni in Marignano\, che offrono pacchetti convenzionati e tanti sconti per i partecipanti alla festa. Affrettati a prenotare il tuo soggiorno negli hotel di Costa Hotels. \n
URL:https://www.costahotels.it/evento/la-notte-delle-streghe-san-giovanni-in-marignano/
CATEGORIES:Eventi
ATTACH;FMTTYPE=image/jpeg:https://www.costahotels.it/wp-content/uploads/2019/05/la-notte-delle-streghe-san-giovanni-in-marignano-768x400-1.jpg
END:VEVENT
END:VCALENDAR