BEGIN:VCALENDAR
VERSION:2.0
PRODID:-//Costahotels - ECPv4.6.2//NONSGML v1.0//EN
CALSCALE:GREGORIAN
METHOD:PUBLISH
X-WR-CALNAME:Costahotels
X-ORIGINAL-URL:https://www.costahotels.it
X-WR-CALDESC:Events for Costahotels
BEGIN:VEVENT
DTSTART;TZID=Europe/Rome:20221004T150000
DTEND;TZID=Europe/Rome:20221004T193000
DTSTAMP:20260420T114243
CREATED:20220830T145717Z
LAST-MODIFIED:20221010T123628Z
UID:11213-1664895600-1664911800@www.costahotels.it
SUMMARY:Modena Cento Ore
DESCRIPTION:Un grande evento Riccione Ottobre è atteso dagli amanti delle auto d’epoca: Modena Cento Ore che\, il 4 Ottobre\, vede proprio Riccione come seconda tappa del carnet de passage (la lista delle tappe del giro). \nModena Cento Ore – La Tappa di Riccione\nIl grande evento motoristico\, nato del 2000 e che si sviluppa tra Emilia Romagna e Toscana\, è atteso il 4 Ottobre nella fascia pomeridiana dalle 15:00 alle 19:30.\nLa programmazione della tappa Riccionese ha inizio in Piazzale Roma\, con il raduno delle 100 auto d’epoca a circondare l’emblematica fontana di Tonino Guerra “Il Bosco della Pioggia”\, tra le 16:30 e le 18:30.\nDopo la sosta nel grande piazzale nel cuore della città\, la sfilata riprende per le principali vie della Perla Verde\, passando da Viale Ceccarini\, Viale Milano\, Viale Bellini\, Viale Tasso\, Viale Parini\, Viale dei Mille\, Viale Torriana\, Viale Bondeno\, Viale Castrocaro\, Viale Vittorio Emanuele II\, Viale Einaudi e Viale Berlinguer. \nPer chi non conoscesse l’evento\, Modena Cento Ore ha negli anni guadagnato l’importanza pari ad eventi del calibro del Grand Prix Historique di Monaco\, del Tour de France o della Carrera Panamericana e raduna ogni anno i collezionisti più appassionati di auto d’epoca in un viaggio alla scoperta dei paesaggi mozzafiato\, della storia\, dell’arte\, dell’enogastronomia e della cultura per i quali l’Emilia Romagna e la Toscana sono famosi in tutto il mondo. \nOfferte hotel Riccione Ottobre\nChi partecipa a Modena Cento Ore ha la possibilità di richiedere gratuitamente un preventivo in hotel Riccione con garage sicuro\, per rimanere nei pressi dei punti di ritrovo\, mantenendo al sicuro la propria vettura d’epoca durante il pernottamento. \n
URL:https://www.costahotels.it/evento/modena-cento-ore/
CATEGORIES:Eventi
ATTACH;FMTTYPE=image/jpeg:https://www.costahotels.it/wp-content/uploads/2022/08/modena-cento-ore-768x400.jpg
END:VEVENT
END:VCALENDAR