BEGIN:VCALENDAR
VERSION:2.0
PRODID:-//Costahotels - ECPv4.6.2//NONSGML v1.0//EN
CALSCALE:GREGORIAN
METHOD:PUBLISH
X-WR-CALNAME:Costahotels
X-ORIGINAL-URL:https://www.costahotels.it
X-WR-CALDESC:Events for Costahotels
BEGIN:VEVENT
DTSTART;TZID=Europe/Rome:20190420T173000
DTEND;TZID=Europe/Rome:20190420T210000
DTSTAMP:20260422T044918
CREATED:20190416T134305Z
LAST-MODIFIED:20190429T135805Z
UID:7728-1555781400-1555794000@www.costahotels.it
SUMMARY:Molecole Show
DESCRIPTION:Un mare di pois verdi e rosa invadono la città di Riccione per emozionare e dare il via alla bella stagione. Tra giochi di colori\, sfere\, baloon giganti e scenografie urbane della Primavera del giro\, per i cittadini e per i turisti che arriveranno a Riccione per trascorrere le vacanze\, saranno moltissime le manifestazioni in programma come il Molecole Show di sabato 20 Aprile dalle 17:30 alle 21:00 in Piazzale Roma. \nMolecole Show? Di cosa si tratta…\n…Uno spettacolo di danza aerea\, con un acrobata che con un grande grappolo di 300 sfere si alzerà in volo sul mare e sulla città di Riccione. Il primo spettacolo si terrà alle 17:30\, il secondo alle 18:30 e l’ultimo alle 21:00.\nGli Hotel Riccione propongono numerose offerte agli ospiti per queste giornate ricche di mostre\, incontri\, fuochi d’artificio e concerti. \nSi ricorda che per la Primavera del giro la Perla Verde dell’Adriatico si presenterà con una scenografia del tutto inedita e ospiterà tanti grandi eventi dal 13 Aprile al  16 Giugno. \n
URL:https://www.costahotels.it/evento/molecole-show/
CATEGORIES:Eventi
ATTACH;FMTTYPE=image/jpeg:https://www.costahotels.it/wp-content/uploads/2019/04/POST-molecoleShow850x520DAUSARE.jpg
END:VEVENT
END:VCALENDAR