BEGIN:VCALENDAR
VERSION:2.0
PRODID:-//Costahotels - ECPv4.6.2//NONSGML v1.0//EN
CALSCALE:GREGORIAN
METHOD:PUBLISH
X-WR-CALNAME:Costahotels
X-ORIGINAL-URL:https://www.costahotels.it
X-WR-CALDESC:Events for Costahotels
BEGIN:VEVENT
DTSTART;TZID=Europe/Rome:20250620T000000
DTEND;TZID=Europe/Rome:20250622T070000
DTSTAMP:20260421T042526
CREATED:20160613T133747Z
LAST-MODIFIED:20250630T123647Z
UID:5536-1750377600-1750575600@www.costahotels.it
SUMMARY:Notte Rosa
DESCRIPTION:La grande festa dell’estate Romagnola ci aspetta quest’anno\, per la prima volta\, in occasione del Solstizio d’Estate\, dal 20 al 22 giugno 2025. La Notte Rosa torna a colorare tutta la riviera romagnola in occasione della 20esima edizione dal titolo Notte Rosa Hit’s Summer\, un simpatico gioco di parole che preannucia l’inizio della calda stagione fatta di musica che farà da colonna sonora dell’estate 2025! \nNotte Rosa Hit’s Summer\nMoltissimi sono gli appuntamenti con i concerti all’aria aperta che si svolgeranno in tutta la provincia di Rimini. L’edizione 2024 ha visto grandi ospiti esibirsi sui vari palchi della riviera romagnola\, tra i quali Annalisa\, Dargen d’Amico\, Jo Squillo\, Raf\, Cristiano Malgioglio! Anche per la ventesima esizione della Notte Rosa ci aspettiamo tanti ospiti big e grandi sorprese per l’intrattenimento del pubblico in visita e per i residenti. \nLe parole chiave della Notte Rosa 2025 sono Music\, Sport\, Food\, Arts\, Welness. Il programma degli eventi e dei concerti della Notte Rosa edizione Hit’s Summer deve ancora essere svelato. Quel che è certo è che ne vedremo delle belle!\n \n  \n \n  \nChiedi disponibilità in hotel Rimini\, hotel Riccione e Misano per partecipare alla settimana Rosa! \n \n
URL:https://www.costahotels.it/evento/notte-rosa-riccione/
CATEGORIES:Eventi
ATTACH;FMTTYPE=image/jpeg:https://www.costahotels.it/wp-content/uploads/2016/06/notte-rosa-768x400-1.jpg
END:VEVENT
END:VCALENDAR