BEGIN:VCALENDAR
VERSION:2.0
PRODID:-//Costahotels - ECPv4.6.2//NONSGML v1.0//EN
CALSCALE:GREGORIAN
METHOD:PUBLISH
X-WR-CALNAME:Costahotels
X-ORIGINAL-URL:https://www.costahotels.it
X-WR-CALDESC:Events for Costahotels
BEGIN:VEVENT
DTSTART;TZID=Europe/Rome:20191101T080000
DTEND;TZID=Europe/Rome:20200229T170000
DTSTAMP:20260422T121958
CREATED:20191120T111539Z
LAST-MODIFIED:20191127T150745Z
UID:9344-1572595200-1582995600@www.costahotels.it
SUMMARY:Premio Riccione per il Teatro Analogo Digitale
DESCRIPTION:Arriva il 1° Novembre alle ore 22:30 la mostra Analogo digitale della nuova Biennale d’Arte Digitale\, la mostra sarà curata dalla Wowa-Galleria Digitale Temporanea. \nPremio Riccione per il Teatro Analogo Digitale\nCi saranno tanti cortometraggi le performance live\, le opere esposte\, l’ evento che ha più di 10 anni è uno spettacolo dal quale emorgono gli artisti e le nuove opere d’arte. I cortometraggi proiettati saranno: \n\nThe world as will against despair di Camille Zehènne (FR)\nReality Fragment 160921 di Qigemu (SE)\nDigital Traces di April Lin (SE)\n\nLe performance live saranno 2 e più precisamente “Apres-midi de la faune” del 2012 e Streaming del 2019. In questa mostra saranno ospitate le opere di molti artisti contemporanei:\nLaura Nomisake\,Nicola Anthony\, Cinthya Escorcia\, David Guerrero\,Mara Oscar Cassini\, April Lil\, Milos Peskir\,Nin Shapira\, Camille Zéhenne\, Caglar Tahiroglu\, Juergen Trautwein\, Flavio Scutti\, Bruno Melo\, Carmel Barnea Brezner Jonas\, Tess Altman e Zander Porter.\nLa mostra si terrà allo Spazio Tondelli e potrà venire visitata prima e dopo gli spettacoli\, ricordiamo che terminerà il 29 Febbraio 2020…\nSaranno molti gli Hotel Riccione aperti a Novembre se sei un appassionato o uno spettatore ti invitiamo a prenotare un hotel Riccione CostaHotels a non perderti il Premio Riccione per il Teatro Analogo Digitale. \n
URL:https://www.costahotels.it/evento/premio-riccione-per-il-teatro-analogo-digitale/
CATEGORIES:Eventi
ATTACH;FMTTYPE=image/jpeg:https://www.costahotels.it/wp-content/uploads/2019/11/analogo-digitale-768x400.jpg
END:VEVENT
END:VCALENDAR