BEGIN:VCALENDAR
VERSION:2.0
PRODID:-//Costahotels - ECPv4.6.2//NONSGML v1.0//EN
CALSCALE:GREGORIAN
METHOD:PUBLISH
X-WR-CALNAME:Costahotels
X-ORIGINAL-URL:https://www.costahotels.it
X-WR-CALDESC:Events for Costahotels
BEGIN:VEVENT
DTSTART;TZID=Europe/Rome:20191123T080000
DTEND;TZID=Europe/Rome:20200123T170000
DTSTAMP:20260421T152513
CREATED:20171116T112719Z
LAST-MODIFIED:20200123T102909Z
UID:7178-1574496000-1579798800@www.costahotels.it
SUMMARY:Riccione Ice Carpet
DESCRIPTION:Il Riccione Ice Carpet torna a donare la magia del Natale in città\, dal 23 Novembre 2019\, sino addirittura al 23 Gennaio 2020!\nTutti i quartieri della città\, avranno come caratteristica in comune la dominanza del bianco. La lunghissima pista del pattinaggio sul ghiaccio\, in viale Dante\, farà da importante collegamento tra il tappeto bianco di viale Ceccarini e piazzale Ceccarini\, l’arena dei grandi eventi Natale a Riccione.\nNon mancheranno le classiche casette dello shopping\, che anche quest’anno presenteranno un design balneare\, realizzate in legno con un forte richiamo alle tradizionali cabine da spiaggia. Il grande albero di Natale sarà acceso il 7 Dicembre e ci saranno tante luci colorate a formare un tunnel. \nLa casa di Babbo Natale e Deejay On Ice Riccione\nL’immancabile Casa di Babbo Natale sarà una vera e propria casa igloo in Piazza Roma\, uno spazio fiabesco da cui osservare Riccione in festa. Qui i bambini potranno consegnare a Babbo Natale la propria letterina dei desideri.\nDurante l’intera durata delle feste natalizie\, vi saranno interessanti eventi\, conferenze e incontri a teatro e al cinema\, dedicati a tutto il pubblico ed è prevista un’animazione di grande impatto visivo fino al 23 Gennaio\, con Fuori Sigep\, evento in collaborazione con uno degli eventi fieristici più importanti di Rimini Fiera\, il Sigep. \nCome già anticipato ci sarà la presenza di Radio Deejay con Deejay on Ice in Piazzale Ceccarini\, durante le 3 serate il 29\, il 31 Dicembre e il 1° Gennaio 2020\, ci saranno tanti big della musica italiana\, tra cui Mahmood\, Emma Marrone e Alberto Urso e i festeggiamenti della notte di Capodanno\, durante la quale è previsto un format davvero unico e vario! \nRicordiamo\, inoltre\, che ci saranno diversi spettacoli con La bella Stagione dello Spazio Tondelli che Venerdì 22 e Sabato 23 Novembre proporrà ‘La bancarotta’ di Carlo Goldoni. Martedì 3 Dicembre verrà proposto ‘Vincenti Van Gogh\, l’odore assordante del bianco’. Lunedì 16 Dicembre viene rappresentata ‘La menzogna’. Non solo spettacoli teatrali\, ci sarà anche la mostra di scultura ‘La porta dei sogni’ dal 21 Dicembre al 19 Gennaio. \nMoltissimi sono gli hotel Riccione già pronti con speciali offerte Capodanno a Riccione.\nScoprile tutte e scegli l’hotel che meglio incontra le tue esigenze! \n
URL:https://www.costahotels.it/evento/riccione-ice-carpet/
CATEGORIES:Eventi
ATTACH;FMTTYPE=image/jpeg:https://www.costahotels.it/wp-content/uploads/2017/11/FB-COVER-EVENT-768x400.jpg
END:VEVENT
END:VCALENDAR