BEGIN:VCALENDAR
VERSION:2.0
PRODID:-//Costahotels - ECPv4.6.2//NONSGML v1.0//EN
CALSCALE:GREGORIAN
METHOD:PUBLISH
X-WR-CALNAME:Costahotels
X-ORIGINAL-URL:https://www.costahotels.it
X-WR-CALDESC:Events for Costahotels
BEGIN:VEVENT
DTSTART;VALUE=DATE:20250201
DTEND;VALUE=DATE:20250203
DTSTAMP:20260421T152558
CREATED:20191009T150319Z
LAST-MODIFIED:20250212T142739Z
UID:9140-1738368000-1738540799@www.costahotels.it
SUMMARY:Rimini Marketplace
DESCRIPTION:Rimini Marketplace torna sempre all’Altromondo Studios nel fine settimana dell’1 e 2 Febbraio\, con il primissimo appuntamento del 2025\, dedicato al fashion vintage\, collezionismo e all’hand made. \nRimini Marketplace\, tra vintage e hand made\nSarà la location dove troverete i migliori espositori d’Italia ecco quali… il faschion vintage\, il modernariato\, il vintage shopping\, il vintage market\, il design\, il collezionismo e l’artigianato.\nAll’interno dell’area dell’evento RiMa è previsto il pranzo alle ore 12:00 e l’aperitivo alle ore 17:00.\nE ancora potrete ascoltare tanta musica con il dj set\, spettacolo e animazione.\nGli Hotel Riccione che resteranno aperti a Febbraio saranno diversi\, se sei un appassionato di Marketplace o un accompagnatore ti invitiamo a prenotare un hotel Riccione. \nL’ingresso a Rimini Marketplace è gratuito e lo è anche il grande e comodo parcheggio proprio fuori dal complesso. \nPuoi visitare Marketplace Rimini sabato 1 e domenica 2 Febbraio 2025 dalle ore 11:00 alle 21:00. \nInformazioni utili per l’ingresso al Rimini Marketplace\nPer partecipare all’evento\, è necessario scaricare il proprio ticket gratuito\, che verrà richiesto all’ingresso dal personale addetto. Il link per ottenere il ticket d’accesso al RiMa è disponibile sulle pagine ufficiali Instagram e Facebook di Rimini Marketplace. \nInizia il nuovo anno in bellezza… Scopri tramite il comodo form di richiesta preventivo\, chi ha ancora disponibilità. Nel giro di pochissimi minuti riceverai le offerte su misura per te\, degli hotel Riccione aperti a Febbraio! \n
URL:https://www.costahotels.it/evento/rimini-marketplace/
CATEGORIES:Eventi
ATTACH;FMTTYPE=image/jpeg:https://www.costahotels.it/wp-content/uploads/2019/10/rimini-marketplace-768x400-3.jpg
END:VEVENT
END:VCALENDAR