BEGIN:VCALENDAR
VERSION:2.0
PRODID:-//Costahotels - ECPv4.6.2//NONSGML v1.0//EN
CALSCALE:GREGORIAN
METHOD:PUBLISH
X-WR-CALNAME:Costahotels
X-ORIGINAL-URL:https://www.costahotels.it
X-WR-CALDESC:Events for Costahotels
BEGIN:VEVENT
DTSTART;TZID=Europe/Rome:20190719T080000
DTEND;TZID=Europe/Rome:20190721T170000
DTSTAMP:20260424T024610
CREATED:20190716T101614Z
LAST-MODIFIED:20190718T085013Z
UID:8521-1563523200-1563728400@www.costahotels.it
SUMMARY:SKI.IT Village Riccione
DESCRIPTION:Arriva SKI.IT Village Riccione un evento tanto atteso dal 19 al 21 Luglio a Riccione. Il piazzale Roma si “trasforma” e diventa un villaggio invernale con tanto di casetta alpina\, una scuola di sci\, con alcuni maestri e una telecabina. \nCi sarà un campetto con la neve dove i bambini potranno imparare ad andare con gli sci… Ci saranno la musica e l’animazione e tanti balli di gruppo. Dalle 17:30 alle 24 i bambini potranno conoscere Snowy la mascotte dell’evento!… \nIl programma di SKI.IT Village Riccione\n– Alle ore 17:30 apre SKI.IT\n– successivamente ore 20:30 tanti balli di gruppo con Snowy e distribuzione dei biglietti\n– da non perdere ore 21:30 la lotteria\n– il Villaggio continua alle ore 22:00 con musica e balli di gruppo \nGli Hotel Riccione saranno pronti ad ospitare le famiglie che vogliono trascorrere le vacanze a Riccione e che vogliono partecipare allo SKI.IT Village Riccione.\nQuesto progetto viene organizzato dalla città di Riccione\, dalle scuole di sci\, dall’ APT Val di Sole\, dai consorzi\, da Funivie Folgarida-Marilleva Spa . \n  \n
URL:https://www.costahotels.it/evento/ski-it-village-riccione/
CATEGORIES:Eventi
ATTACH;FMTTYPE=image/jpeg:https://www.costahotels.it/wp-content/uploads/2019/07/skiit768x400.jpg
END:VEVENT
END:VCALENDAR