BEGIN:VCALENDAR
VERSION:2.0
PRODID:-//Costahotels - ECPv4.6.2//NONSGML v1.0//EN
CALSCALE:GREGORIAN
METHOD:PUBLISH
X-WR-CALNAME:Costahotels
X-ORIGINAL-URL:https://www.costahotels.it
X-WR-CALDESC:Events for Costahotels
BEGIN:VEVENT
DTSTART;TZID=Europe/Rome:20240705T140000
DTEND;TZID=Europe/Rome:20240707T220000
DTSTAMP:20260426T035527
CREATED:20240702T095902Z
LAST-MODIFIED:20240711T130107Z
UID:12245-1720188000-1720389600@www.costahotels.it
SUMMARY:Takes Over
DESCRIPTION:Nel fine settimana della Notte Rosa Riccione\, dal 5 al 7 Luglio\, torna Takes Over\, un grande evento targato Cruisin’\, in collaborazione con Costa Hotels\, dedicato agli artisti\, produttori e appassionati della musica dance anni ’70\, ’80 e ’90! \nLa nuova edizione di Takes Over Riccione\nLa terza edizione di Takes Over si svolge presso il Grand Hotel di Riccione\, per far vivere un’esperienza musicale esclusiva in una scenografia inusuale e raffinata. \nProgramma di Takes Over Riccione 2024\nVenerdì 5 Luglio 2024\nL’evento avrà un grande inizio il 5 Luglio alle 14:00 presso il salone del Grand Hotel con il Meeting Music Lab\, un incontro imprenditoriale dedicata ai Dj\, produttori musicali e ammassionati della musica elettronica. Una grande opportunità per conoscere le nuove tecnologie per la produzione discografica e musicale.\nDalle ore 16:00\, in terrazza\, Selezioni DJ Contest Takes Over ’24.\nAlle 20:00 è previsto il Djset anni ’70\, ’80 e ’90 di Antonio Sacco\, vincitore di Takes Over 2023 e a seguire Claudio Coveri DJ.\nSaranno poi annunciati i vincitori del DJ Contest 2024 e performance dei vari partecipanti. \nSabato 6 Luglio 2024\nAppuntamento a partire dalle ore 11:00\, fino alle ore 13:00\, l’evento si sposta in spiaggia\, a Marano Beach\, con l’AperiDance\, a ingresso libero\, presso Operà Beach Club\, Mojito Beach e Beach Village.\nIn serata\, dalle ore 18:00\, torniamo alla terrazza del Grand Hotel di Riccione per l’Apericena Dj Set Libidine Party con possibilità di ascoltare diversi generi musicali\, quali Deep House\, Funky House\, House Music e Tropical House.\nDalle ore 21:00 l’evento prosegue all’interno dei saloni del Grand Hotel con percormance musicali dal vivo voce – piano\, con la partecipazione di Totò Grimaldi\, Romano Bais e gli artisti di Takes Over.\nCosto complessivo della serata al Grandhotel € 20\,00 \nDomenica 7 Luglio 2024\nL’evento si chiude in bellezza con il Brunch al Grandhotel a partire dalle ore 11:00\, al costo di €15\,00 \nGrande novità per l’edizione 2024: La costa Card!\nI possessori della Costa Card hanno diritto a interessanti sconti per la partecipazione alle iniziative di Takes Over!\nChiedi informazioni al tuo hotel Riccione su come accedere ai vantaggi della Costa Card! \n
URL:https://www.costahotels.it/evento/takes-over/
CATEGORIES:Annual Meet,Eventi
ATTACH;FMTTYPE=image/jpeg:https://www.costahotels.it/wp-content/uploads/2024/07/takes-over-768x400.jpg
END:VEVENT
END:VCALENDAR