BEGIN:VCALENDAR
VERSION:2.0
PRODID:-//Costahotels - ECPv4.6.2//NONSGML v1.0//EN
CALSCALE:GREGORIAN
METHOD:PUBLISH
X-WR-CALNAME:Costahotels
X-ORIGINAL-URL:https://www.costahotels.it
X-WR-CALDESC:Events for Costahotels
BEGIN:VEVENT
DTSTART;TZID=Europe/Rome:20210611T090000
DTEND;TZID=Europe/Rome:20210612T183000
DTSTAMP:20260425T152213
CREATED:20201028T095051Z
LAST-MODIFIED:20210722T152325Z
UID:10134-1623402000-1623522600@www.costahotels.it
SUMMARY:The Coach Experience
DESCRIPTION:The Coach Experience\, l’evento dedicato al mondo del calcio\, creato da Società Italiana Allenatori Calcio in collaborazione con Italian Exhebition Group e SIA. \nL’evento sarà un momento d’incontro ed aggiornamento per allenatori italiani e stranieri\, manager\, sponsor\, tecnici ed esperti. \nPresenti\, anche TOP MANAGER\, allenatori vincenti a livello nazionale ed internazionale che rappresentano in modo eccellente il mondo del calcio che si sono imposti all’interno delle squadre con modalità innovative di gestione dei gruppi e metodologie alternative per gli allenamenti. \nThe Coach Experience: informazioni\nLa manifestazione si terrà presso l’impianto fieristico di Rimini\, l’11 e 12 Giugno 2021. \nA prendere parte all’evento saranno non solo le persone sopra citate ma anche tutti gli appassionati del settore calcistico che hanno la volontà di parteciparvi. \nL’ingresso è gratuito. \nThe Coach Experience sarà svolto seguendo le normative vigenti\, per evitare il contagio da COVID 19. \nThe Coach Experience: offerte hotel\nPer soggiornare durante le date della manifestazione\, cerca tra le offerte proposte dagli Hotel Rimini situati a pochi passi dall’impianto fieristico. \n
URL:https://www.costahotels.it/evento/the-coach-experience/
CATEGORIES:Eventi
ATTACH;FMTTYPE=image/jpeg:https://www.costahotels.it/wp-content/uploads/2020/10/the-coach-experience768x400-1.jpg
END:VEVENT
END:VCALENDAR