BEGIN:VCALENDAR
VERSION:2.0
PRODID:-//Costahotels - ECPv4.6.2//NONSGML v1.0//EN
CALSCALE:GREGORIAN
METHOD:PUBLISH
X-WR-CALNAME:Costahotels
X-ORIGINAL-URL:https://www.costahotels.it
X-WR-CALDESC:Events for Costahotels
BEGIN:VEVENT
DTSTART;TZID=Europe/Rome:20250310T080000
DTEND;TZID=Europe/Rome:20250316T170000
DTSTAMP:20260421T165925
CREATED:20220308T145506Z
LAST-MODIFIED:20260316T095621Z
UID:10940-1741593600-1742144400@www.costahotels.it
SUMMARY:Trofeo Interregionale ACSI Città di Riccione
DESCRIPTION:Marzo è decisamente uno dei mesi più importanti per lo sport a Riccione. Tra le varie manifestazioni agonistiche\, troviamo il Trofeo Interregionale ACSI Città di Riccione dal 10 al 16 Marzo 2025. \nTrofeo Interregionale ACSI Città di Riccione\nUna sfida sui pattini a rotelle che vedrà anche quest’anno un migliaio di atleti provenienti da varie regioni di Italia sfidarsi al Playhall Riccione in diverse specialità. \nIl trofeo interregionale di Pattinaggio a rotelle a Riccione\, al Playhall\, nasce grazie all’organizzazione di ADS Pattinaggio Artistico Riccione in collaborazione con ACSI Nazionale e Consorzio Riccione Sport e prevede diverse specialità\, tra cui singoli\, solo dance\, coppie artistico e danza\, gruppi spettacolo e sincronizzato. Sono garantiti spettacoli unici con esibizioni mozzafiato\, esecuzioni tecniche\, evoluzioni\, giravolte e salti a ritmo di musica\, teatralità e coloratissimi vestiti preziosi. \nOfferte Marzo hotel Riccione\nDurante la sette giorni di evento pattinaggio Riccione\, gli atleti e accompagnatori possono alloggiare negli hotel Riccione aperti a Marzo!\nServiti dell’apposito form per richiedere disponibilità agli hotel associati a Costa Hotels!\nLe strutture aperte e idonee per la tua richiesta provvederà in pochissimo tempo ad inoltrarti la sua migliore offerta! \n  \nFonte foto: sito Riccione.it (https://www.riccione.it/it/eventi/evento/trofeo-interregionale-acsi-citta-di-riccione) \n
URL:https://www.costahotels.it/evento/trofeo-interregionale-acsi-citta-di-riccione/
CATEGORIES:Eventi,Sport
ATTACH;FMTTYPE=image/jpeg:https://www.costahotels.it/wp-content/uploads/2022/03/Trofeo-Interregionale-ACSI-Citta-di-Riccione-768x400.jpg
END:VEVENT
END:VCALENDAR