BEGIN:VCALENDAR
VERSION:2.0
PRODID:-//Costahotels - ECPv4.6.2//NONSGML v1.0//EN
CALSCALE:GREGORIAN
METHOD:PUBLISH
X-WR-CALNAME:Costahotels
X-ORIGINAL-URL:https://www.costahotels.it
X-WR-CALDESC:Events for Costahotels
BEGIN:VEVENT
DTSTART;VALUE=DATE:20260404
DTEND;VALUE=DATE:20260407
DTSTAMP:20260420T194848
CREATED:20231114T113621Z
LAST-MODIFIED:20260316T130053Z
UID:11874-1775260800-1775519999@www.costahotels.it
SUMMARY:Wanderlust Officina Creativa
DESCRIPTION:Durante il weekend di Pasqua\, dal 4 al 6 Aprile 2026\,  Villa Mussolini di Riccione ospita Wanderlust Officina Creativa\, un bellissimo evento all’insegna della creatività hand made\, in una versione tutta primaverile! \nWanderlust Officina Creativa Pasqua a Riccione\nWanderlust Officina Creativa è un evento dedicato al fatto a mano e al senso del bello. L’evento stesso è una realizzazione bellissima\, con scenari eleganti\, intrattenimento\, attività e laboratori\, musica\, magia\, food and drinks\, puntando sempre il riflettore principale sugli artigiani\, accuratamente selezionati col fine di assicurare ai visitatori un’esperienza all’insegna degli acquisti di creazioni artigianali contemporanee di qualità. \nL’evento si terrà nello splendido scenario di Villa Mussolini\, uno dei punti di maggiore interesse nel cuore di Riccione.\nQui\, i visitatori potranno trovare originali articoli di artigianato\, tra oggettistica di arredamento per la casa hand made\, gioielli fatti a mano\, oggetti ornamentali\, bijoux artigianali\, abbigliamento originale e tantissimo altro.\nNon mancherà l’area food and drinks con delizie di qualità per l’aperitivo\, cena o un drink in serata\, spettacoli itineranti e workshop per avvicinarsi al meraviglioso mondo del fatto a mano. \nOrari e costi Wanderlust Riccione Bloom Edition\nL’evento si terrà a Villa Mussolini dal 4 al 6 Aprile 2026 con prezzo di ingresso di € 3\,00\, valido per una sola giornata. I bambini sotto ai 10 anni e disabili hanno diritto all’ingresso gratuito. \nOfferte hotel Riccione weekend Pasqua Riccione\nWanderlust Riccione Bloom Edition è uno dei tanti motivi per  in occasione del primo weekend di Pasqua Riccione. Richiedi disponibilità nei migliori hotel Riccione\, servendoti del pratico form mi richiesta preventivo. \n
URL:https://www.costahotels.it/evento/wanderlust-officina-creativa/
CATEGORIES:Eventi,Festività
ATTACH;FMTTYPE=image/jpeg:https://www.costahotels.it/wp-content/uploads/2023/11/wanderlust-riccione-768x400.jpg
END:VEVENT
END:VCALENDAR