BEGIN:VCALENDAR
VERSION:2.0
PRODID:-//Costahotels - ECPv4.6.2//NONSGML v1.0//EN
CALSCALE:GREGORIAN
METHOD:PUBLISH
X-WR-CALNAME:Costahotels
X-ORIGINAL-URL:https://www.costahotels.it
X-WR-CALDESC:Events for Costahotels
BEGIN:VEVENT
DTSTART;TZID=Europe/Rome:20211216T080000
DTEND;TZID=Europe/Rome:20211219T170000
DTSTAMP:20260421T151434
CREATED:20210119T150738Z
LAST-MODIFIED:20211229T090331Z
UID:10533-1639641600-1639933200@www.costahotels.it
SUMMARY:Youth Grand Prix Italy a Riccione
DESCRIPTION:Dal 16 al 19 Dicembre 2021 il Palacongressi di Riccione ospiterà un evento di grandissima importanza per la danza classica a livello internazionale\, Youth Grand Prix Italy. \nInformazioni su Youth Grand Prix Italy\nNato negli Stati Uniti\, si tratta del più grande concorso internazionale di danza classica che assegna borse di studio ai giovani danzatori di ogni nazionalità e sceglie Riccione per la tappa Italiana dedicata alle semifinali internazionali. \nLa manifestazione è stata riconosciuta dal CONI e dal CPI come evento internazionale di massimo interesse a livello nazionale\, ricollegato agli eventi ufficiali di Opes Danza. \nLa storia dello Youth America Grand Prix\nYouth America Grand Prix (YAGP) è un’organizzazione educativa no profit con sede a New York\, USA\, che assegna borse di studi alle principali istituzioni di danza del mondo e crea importanti opportunità formative e lavorative per i giovani ballerini.\nNasce nel 1999 per idea di Larissa e Gennadi Savaliev come competizione per studenti di danza classica\, divenendo presto il più importante concorso degli Stati Uniti\, affermandosi poco più tardi anche a livello internazionale.\nDal 1999 ad oggi\, l’organizzazione colleziona un’incredibile serie di successi\, in particolare nel 2005\, quando l’UNESCO le riconosce il contributo all’educazione alla danza internazionale e le consegna il prestigioso CID dell’UNESCO (Conseil International de la Danse). \nOfferte hotel Riccione vicino al Palacongressi\nGli hotel Riccione vicino al Palazzo dei Congressi accolgono i ballerini con imperdibili offerte a tema!\nRichiedi il tuo preventivo servendoti del pratico form di richiesta e scegli la soluzione migliore per le tue esigenze. \n
URL:https://www.costahotels.it/evento/youth-grand-prix-italy-riccione/
CATEGORIES:Eventi,Sport
ATTACH;FMTTYPE=image/jpeg:https://www.costahotels.it/wp-content/uploads/2021/01/youth-grand-prix-italy-768x400.jpg
END:VEVENT
END:VCALENDAR